BEGIN:VCALENDAR
VERSION:2.0
PRODID:-//To Groove Pistoia - ECPv6.2.9//NONSGML v1.0//EN
CALSCALE:GREGORIAN
METHOD:PUBLISH
X-WR-CALNAME:To Groove Pistoia
X-ORIGINAL-URL:https://togroovepistoia.it
X-WR-CALDESC:Eventi per To Groove Pistoia
REFRESH-INTERVAL;VALUE=DURATION:PT1H
X-Robots-Tag:noindex
X-PUBLISHED-TTL:PT1H
BEGIN:VTIMEZONE
TZID:Europe/Rome
BEGIN:DAYLIGHT
TZOFFSETFROM:+0100
TZOFFSETTO:+0200
TZNAME:CEST
DTSTART:20200329T010000
END:DAYLIGHT
BEGIN:STANDARD
TZOFFSETFROM:+0200
TZOFFSETTO:+0100
TZNAME:CET
DTSTART:20201025T010000
END:STANDARD
END:VTIMEZONE
BEGIN:VEVENT
DTSTART;VALUE=DATE:20200313
DTEND;VALUE=DATE:20200314
DTSTAMP:20260422T042435
CREATED:20230131T191524Z
LAST-MODIFIED:20230130T203510Z
UID:2940-1584057600-1584143999@togroovepistoia.it
SUMMARY:Pistoia Magic!
DESCRIPTION:  \n  \n10 – 11 – 12 Febbraio 2023 \n«Essere felici è una scelta\, ma nessuno può esserlo da solo.  \nLa vita felice è svegliarsi con una missione da compiere» \n(dott Mimmo Armiento) \nSiamo lieti di annunciare che…\nla nostra associazione è stata scelta quale realtà locale cui l’agenzia Magicamente  devolverà parte degli incassi dello spettacolo Pistoia Magic-Lo spettacolo di Magia di Pistoia.\nGiunto alla nona edizione\, grazie a di Francesco Micheloni\, giovane prestigiatore pistoiese e organizzatore di eventi di magia\, Pistoia Magic  porta a Pistoia il meglio della magia italiana.\nUn unico\, grande spettacolo di 90 minuti\, in quattro appuntamenti venerdì 10/03  ore 21.00\, sabato11/02 ore 16.30 e ore 21.00\, domenica 12/02 ore 16.30.\nSul palco si alterneranno generi di prestigiazione completamente diversi tra loro uniti da un’unica grande storia: dalla magia comica a quella narrata\, dall’eleganza della manipolazione all’energia delle grandi illusioni.\nL’obiettivo è quello di divertire e meravigliare le menti e i cuori degli spettatori di ogni età.\nProtagonisti della nuova edizione saranno: Francesco Micheloni\, Francesco Della Bona -terzo classificato ai campionati del mondo di magia 2022\, che si sono svolti in Quebec (Canada)-\, Dario Adiletta\, Mago Leo\, Tiziano Cellai e Novas.\nSarà una serata …magica e di solidarietà spettacolare! \nStiamo raccogliendo fondi per sostenere i nostri progetti e non gravare completamente sulle famiglie. \nPuoi aiutarci\, Fai una donazione sostienici!\nGRAZIE  \nSiamo un’associazione APS\, se fai il bonifico puoi scaricarlo dalle tasse:\nIBAN   08Y0892213800000000823153
URL:https://togroovepistoia.it/evento/pistoia-magic/
LOCATION:Toscana Fair via Bonellina\, n°26 Pistoia\, Via Bonellina n°46\, Pistoia\, 51100\, Italia
CATEGORIES:In Evidenza
ATTACH;FMTTYPE=image/jpeg:https://togroovepistoia.it/wp-content/uploads/2022/07/Jino-Touche-8-luglio-2022-e1657265369467.jpg
ORGANIZER;CN="To Groove Pistoia":MAILTO:togroovepistoia@gmail.com
END:VEVENT
END:VCALENDAR