BEGIN:VCALENDAR
VERSION:2.0
PRODID:-//To Groove Pistoia - ECPv6.2.9//NONSGML v1.0//EN
CALSCALE:GREGORIAN
METHOD:PUBLISH
X-ORIGINAL-URL:https://togroovepistoia.it
X-WR-CALDESC:Eventi per To Groove Pistoia
REFRESH-INTERVAL;VALUE=DURATION:PT1H
X-Robots-Tag:noindex
X-PUBLISHED-TTL:PT1H
BEGIN:VTIMEZONE
TZID:Europe/Rome
BEGIN:DAYLIGHT
TZOFFSETFROM:+0100
TZOFFSETTO:+0200
TZNAME:CEST
DTSTART:20210328T010000
END:DAYLIGHT
BEGIN:STANDARD
TZOFFSETFROM:+0200
TZOFFSETTO:+0100
TZNAME:CET
DTSTART:20211031T010000
END:STANDARD
END:VTIMEZONE
BEGIN:VEVENT
DTSTART;VALUE=DATE:20210516
DTEND;VALUE=DATE:20211221
DTSTAMP:20260422T025607
CREATED:20210516T123048Z
LAST-MODIFIED:20211122T141409Z
UID:2823-1621123200-1640044799@togroovepistoia.it
SUMMARY:Pistoia La Silenziosa
DESCRIPTION:To Groove Pistoia Onlus\, ente capofila\, iscritto all’Anagrafe delle Onlus e nel\nRegistro Regionale delle Organizzazioni di Volontariato. Da anni operiamo per\ntrasmettere l’amore per la cultura musicale ed artistica\, per sviluppare\ncompetenze\, per apprezzare e continuare a vivere esperienze musicali e\nartistiche che arricchiscano e migliorino la qualità della vita. L’intento è di\nproporsi come luogo di incontro e di aggregazione gioiosa. (“La musica è\nespressione dell’anima… e l’anima non conosce disabilità” Cit. J.Gómez)\nTo Groove Pistoia Onlus in partneriato con Agrabah Ass. Genitori per l’Autismo Onlus\, MCL San Biagio Pistoia\, Provincia di Pistoia\, Comune di Pistoia concorreranno alla realizzazione “Pistoia silenziosa:risorse nascoste della nostra città” Progetto realizzato a valere sul Bando I giovani per il volontariato 2020 del Cesvot finanziato con il  contributo di Regione Toscana – Giovanisì in accordo con il Dipartimento per le Politiche giovanili e il Servizio civile universale\, con la partecipazione e  il finanziamento della Fondazione Monte dei Paschi di Siena e della Fondazione Cassa di Risparmio di Firenze. Si occuperanno di formare un gruppo di volontari della ns associazione\, giovani con e senza disabilità\, affinché sia capaci di accogliere\, accompagnare e informare i visitatori alla mostra documentaria su Niccolò Puccini che si svolgerà tra novembre e dicembre di questo anno. Il percorso prevede l’approfondimento delle informazioni relative al ricco salotto culturale pistoiese che ha ruotato attorno a Niccolò Puccini\, filantropo e mecenate\, seguendo percorsi e punti di vista inediti\, alla scoperta di luoghi\, opere e personaggi che sono parte della storia\ncittadina. Il progetto  si svilupperà in tre direzioni:\n1)la formazione e l’affiatamento del gruppo eterogeneo dei giovani volontari\, con e senza\ndisabilità\, individuati sia tra quelli già operativi nelle associazioni\nproponenti che tramite la pubblicizzazione sui social dell’iniziativa. Formazione dei volontari\, ottenuta grazie a esperti delle opere dei carteggi e degli edifici\, per ricoprire il ruolo di “guida e/o accompagnatore”; con coordinatore e tutor per essere efficienti\n“addetti all’accoglienza e box office” che sarà svolto nella sala della\nmostra e durante le conferenze\, concerti organizzati. Il gruppo di volontari progetterà la manifestazione: modalità di intervento\, suddivisone delle responsabilità\, esecuzione\, monitoraggio e verifica\, definizione degli argomenti\, individuazione dei giovani che si esibiranno durante gli incontri/conferenza (lettura poesia\, testi letterari\, musica\, …)\ngrafica dei manifesti\, promozione e social. \n2La realizzazione di una mostra documentaria e di opere artistiche\ndell’Ottocento collocate in edifici storici importanti della città.\n3) Il coinvolgimento delle scuole Superiori di Primo e Secondo Grado per le visite alla mostra documentaria e agli immobili di pregio della città. \nNon perdere l’occasione di entrare nel nostro mondo\, \nscopri cosa abbiamo fatto e stiamo facendo\, \npartecipa troverai il modo prezioso per dare spazio alle tue e nostre idee! \n\nhttps://togroovepistoia.it/wp-content/uploads/2021/11/PROMO-VOLONTARI-PISTOIA-LA-SILENZIOSA.mp4
URL:https://togroovepistoia.it/evento/pistoia-la-silenziosa/
LOCATION:Biblioteca san Giorgio Pistoia\, Via Pertini\, Pistoia\, Pistoia\, 51100\, Italia
CATEGORIES:In Evidenza,Prossimamente
ORGANIZER;CN="To Groove Pistoia":MAILTO:togroovepistoia@gmail.com
END:VEVENT
END:VCALENDAR