BEGIN:VCALENDAR
VERSION:2.0
PRODID:-//To Groove Pistoia - ECPv6.2.9//NONSGML v1.0//EN
CALSCALE:GREGORIAN
METHOD:PUBLISH
X-WR-CALNAME:To Groove Pistoia
X-ORIGINAL-URL:https://togroovepistoia.it
X-WR-CALDESC:Eventi per To Groove Pistoia
REFRESH-INTERVAL;VALUE=DURATION:PT1H
X-Robots-Tag:noindex
X-PUBLISHED-TTL:PT1H
BEGIN:VTIMEZONE
TZID:Europe/Rome
BEGIN:DAYLIGHT
TZOFFSETFROM:+0100
TZOFFSETTO:+0200
TZNAME:CEST
DTSTART:20210328T010000
END:DAYLIGHT
BEGIN:STANDARD
TZOFFSETFROM:+0200
TZOFFSETTO:+0100
TZNAME:CET
DTSTART:20211031T010000
END:STANDARD
BEGIN:DAYLIGHT
TZOFFSETFROM:+0100
TZOFFSETTO:+0200
TZNAME:CEST
DTSTART:20220327T010000
END:DAYLIGHT
BEGIN:STANDARD
TZOFFSETFROM:+0200
TZOFFSETTO:+0100
TZNAME:CET
DTSTART:20221030T010000
END:STANDARD
END:VTIMEZONE
BEGIN:VEVENT
DTSTART;VALUE=DATE:20220611
DTEND;VALUE=DATE:20220612
DTSTAMP:20260422T025807
CREATED:20220528T170150Z
LAST-MODIFIED:20220528T170345Z
UID:2901-1654905600-1654991999@togroovepistoia.it
SUMMARY:Festa delle Spighe 2.0  ricordando Niccolò Puccini
DESCRIPTION:CI SIAMO ecco il programma della FESTA DELLE SPIGHE 2.0
URL:https://togroovepistoia.it/evento/festa-delle-spighe-2-0-ricordando-niccolo-puccini/
LOCATION:Parco Puccini Pistoia
CATEGORIES:In Evidenza,Prossimamente
ATTACH;FMTTYPE=image/jpeg:https://togroovepistoia.it/wp-content/uploads/2022/05/WhatsApp-Image-2022-05-27-at-17.36.16-e1653757173912.jpeg
ORGANIZER;CN="To Groove Pistoia":MAILTO:togroovepistoia@gmail.com
END:VEVENT
BEGIN:VEVENT
DTSTART;VALUE=DATE:20211120
DTEND;VALUE=DATE:20211221
DTSTAMP:20260422T025807
CREATED:20220218T095115Z
LAST-MODIFIED:20220218T095115Z
UID:2868-1637366400-1640044799@togroovepistoia.it
SUMMARY:Continua la ricerca su Niccolò Puccini e il suo lascito a Pistoia
DESCRIPTION:2022 FESTA DELLE SPIGHE
URL:https://togroovepistoia.it/evento/continua-la-ricerca-su-niccolo-puccini-e-il-suo-lascito-a-pistoia/
LOCATION:Biblioteca san Giorgio Pistoia\, Via Pertini\, Pistoia\, Pistoia\, 51100\, Italia
CATEGORIES:In Evidenza,Prossimamente
ATTACH;FMTTYPE=image/jpeg:https://togroovepistoia.it/wp-content/uploads/2022/02/download-21.jpg
ORGANIZER;CN="To Groove Pistoia":MAILTO:togroovepistoia@gmail.com
END:VEVENT
BEGIN:VEVENT
DTSTART;VALUE=DATE:20211120
DTEND;VALUE=DATE:20211221
DTSTAMP:20260422T025807
CREATED:20211120T082611Z
LAST-MODIFIED:20211122T141536Z
UID:2828-1637366400-1640044799@togroovepistoia.it
SUMMARY:Mostra documentaria: "Innamorato di questa nobile Italia. Niccolò Puccini e il suo lascito a Pistoia"
DESCRIPTION:20 Novembre 2021– 20 dicembre 2021 \nBiblioteca San Giorgio – Pistoia \nInaugurata oggi alle ore 11.00 la mostra documentaria su Niccolò Puccini a cura di Prof.ssa Laura Dominici e Prof. Lorenzo Sergi.\nTerza parte del Progetto “Pistoia La Silenziosa” che prevede l’accoglienza dei visitatori a cura del gruppo di volontari che si è preparato sulla figura di Niccolò Puccini e la sua eredità fatta non solo di preziosi documenti\, molti ancora inediti che saranno visionabili nella mostra\, ma anche quadri\, libri\, istituzioni..\, e sopra ogni cosa l’esempio di un giovane filantropo sofferente amante dell’arte\, della libertà ha agito nella sua vita mostrando attenzione e cura nei confronti di chi nella società è più fragile offrendo occasioni di riscatto e dignità. Eredità morale che molti pistoiesi stanno portando avanti ancora oggi nel silenzio.\nProgetto realizzato a valere sul Bando I giovani per il volontariato 2020 del Cesvot finanziato con il contributo di Regione Toscana – Giovanisì in accordo con il Dipartimento per le Politiche giovanili e il Servizio civile universale\, con la partecipazione e il finanziamento della Fondazione Monte dei Paschi di Siena e della Fondazione Cassa di Risparmio di Firenze \n\n		\n		\n			\n				\n			\n			\n				\n			\n			\n				\n			\n			\n				\n			\n			\n				\n			\n			\n				\n			\n			\n				\n			\n			\n				\n			\n			\n				\n			\n			\n				\n			\n			\n				\n			\n			\n				\n			\n		\n\n 
URL:https://togroovepistoia.it/evento/innamorato-di-questa-nobile-italia-niccolo-puccini-e-il-suo-lascito-a-pistoia-mostra-documentaria/
LOCATION:Biblioteca san Giorgio Pistoia\, Via Pertini\, Pistoia\, Pistoia\, 51100\, Italia
CATEGORIES:In Evidenza,Prossimamente
ATTACH;FMTTYPE=image/jpeg:https://togroovepistoia.it/wp-content/uploads/2021/11/WhatsApp-Image-2021-11-03-at-20.19.00-e1637584102530.jpeg
ORGANIZER;CN="To Groove Pistoia":MAILTO:togroovepistoia@gmail.com
END:VEVENT
END:VCALENDAR