BEGIN:VCALENDAR
VERSION:2.0
PRODID:-//To Groove Pistoia - ECPv6.2.9//NONSGML v1.0//EN
CALSCALE:GREGORIAN
METHOD:PUBLISH
X-WR-CALNAME:To Groove Pistoia
X-ORIGINAL-URL:https://togroovepistoia.it
X-WR-CALDESC:Eventi per To Groove Pistoia
REFRESH-INTERVAL;VALUE=DURATION:PT1H
X-Robots-Tag:noindex
X-PUBLISHED-TTL:PT1H
BEGIN:VTIMEZONE
TZID:Europe/Rome
BEGIN:DAYLIGHT
TZOFFSETFROM:+0100
TZOFFSETTO:+0200
TZNAME:CEST
DTSTART:20250330T010000
END:DAYLIGHT
BEGIN:STANDARD
TZOFFSETFROM:+0200
TZOFFSETTO:+0100
TZNAME:CET
DTSTART:20251026T010000
END:STANDARD
END:VTIMEZONE
BEGIN:VEVENT
DTSTART;VALUE=DATE:20250118
DTEND;VALUE=DATE:20250119
DTSTAMP:20260422T022410
CREATED:20250610T133954Z
LAST-MODIFIED:20250630T134149Z
UID:3119-1737158400-1737244799@togroovepistoia.it
SUMMARY:Acqua che danza! Concerto del Coro Mani Bianche di Pistoia
DESCRIPTION:Siamo giunti al caldo di giugno\, prima della pausa estiva vi aspettiamo il 15  giugno al circolo dell’Immacolata con un concerto di gioia\, vi aspettiamo!!! \nProgetto con il patrocinio del Comune di Pistoia e il contributo di Publiacqua.
URL:https://togroovepistoia.it/evento/acqua-che-danza-concerto-del-coro-mani-bianche-di-pistoia-3/
LOCATION:Circolo Immacolata\, Via Antonelli n°86\, Pistoia\, Italia
CATEGORIES:In Evidenza
ATTACH;FMTTYPE=image/jpeg:https://togroovepistoia.it/wp-content/uploads/2025/01/concerto-18-gennaio-2025-e1736592384791.jpg
ORGANIZER;CN="To Groove Pistoia":MAILTO:togroovepistoia@gmail.com
END:VEVENT
BEGIN:VEVENT
DTSTART;VALUE=DATE:20250118
DTEND;VALUE=DATE:20250119
DTSTAMP:20260422T022410
CREATED:20250520T133752Z
LAST-MODIFIED:20250630T134217Z
UID:3117-1737158400-1737244799@togroovepistoia.it
SUMMARY:Acqua che danza! Concerto del Coro Mani Bianche di Pistoia
DESCRIPTION:Festeggiamo  il 25  maggio alla Camposampiero con un concerto di gioia\, vi aspettiamo!!! \nProgetto con il patrocinio del Comune di Pistoia e il contributo di Publiacqua.
URL:https://togroovepistoia.it/evento/acqua-che-danza-concerto-del-coro-mani-bianche-di-pistoia-2/
LOCATION:Circolo Immacolata\, Via Antonelli n°86\, Pistoia\, Italia
CATEGORIES:In Evidenza
ATTACH;FMTTYPE=image/jpeg:https://togroovepistoia.it/wp-content/uploads/2025/01/concerto-18-gennaio-2025-e1736592384791.jpg
ORGANIZER;CN="To Groove Pistoia":MAILTO:togroovepistoia@gmail.com
END:VEVENT
BEGIN:VEVENT
DTSTART;VALUE=DATE:20250118
DTEND;VALUE=DATE:20250119
DTSTAMP:20260422T022410
CREATED:20250418T084700Z
LAST-MODIFIED:20250630T134253Z
UID:3108-1737158400-1737244799@togroovepistoia.it
SUMMARY:Acqua che danza! Concerto del Coro Mani Bianche di Pistoia
DESCRIPTION:Festeggiamo  il 25 aprile ospiti del Comune di Pieve a Nievole con un concerto di gioia\, vi aspettiamo!!! \nProgetto con il patrocinio del Comune di Pieve a Nievole e il contributo di Publiacqua.
URL:https://togroovepistoia.it/evento/acqua-che-danza-concerto-del-coro-mani-bianche-di-pistoia/
LOCATION:Circolo Immacolata\, Via Antonelli n°86\, Pistoia\, Italia
CATEGORIES:In Evidenza
ATTACH;FMTTYPE=image/jpeg:https://togroovepistoia.it/wp-content/uploads/2025/01/concerto-18-gennaio-2025-e1736592384791.jpg
ORGANIZER;CN="To Groove Pistoia":MAILTO:togroovepistoia@gmail.com
END:VEVENT
BEGIN:VEVENT
DTSTART;VALUE=DATE:20250118
DTEND;VALUE=DATE:20250119
DTSTAMP:20260422T022410
CREATED:20250111T104803Z
LAST-MODIFIED:20250111T105754Z
UID:3101-1737158400-1737244799@togroovepistoia.it
SUMMARY:Il mondo di Betta\, buffa pennuta
DESCRIPTION:o\,linguadeisegni\,teatro\,recitazione \nIniziamo il 2025 con un evento di gioia\, vi aspettiamo!!!
URL:https://togroovepistoia.it/evento/il-mondo-di-betta-buffa-pennuta/
LOCATION:Circolo Immacolata\, Via Antonelli n°86\, Pistoia\, Italia
CATEGORIES:In Evidenza
ATTACH;FMTTYPE=image/jpeg:https://togroovepistoia.it/wp-content/uploads/2025/01/concerto-18-gennaio-2025-e1736592384791.jpg
ORGANIZER;CN="To Groove Pistoia":MAILTO:togroovepistoia@gmail.com
END:VEVENT
END:VCALENDAR