BEGIN:VCALENDAR
VERSION:2.0
PRODID:-//To Groove Pistoia - ECPv6.2.9//NONSGML v1.0//EN
CALSCALE:GREGORIAN
METHOD:PUBLISH
X-ORIGINAL-URL:https://togroovepistoia.it
X-WR-CALDESC:Eventi per To Groove Pistoia
REFRESH-INTERVAL;VALUE=DURATION:PT1H
X-Robots-Tag:noindex
X-PUBLISHED-TTL:PT1H
BEGIN:VTIMEZONE
TZID:Europe/Rome
BEGIN:DAYLIGHT
TZOFFSETFROM:+0100
TZOFFSETTO:+0200
TZNAME:CEST
DTSTART:20200329T010000
END:DAYLIGHT
BEGIN:STANDARD
TZOFFSETFROM:+0200
TZOFFSETTO:+0100
TZNAME:CET
DTSTART:20201025T010000
END:STANDARD
END:VTIMEZONE
BEGIN:VEVENT
DTSTART;TZID=Europe/Rome:20200221T210000
DTEND;TZID=Europe/Rome:20200221T230000
DTSTAMP:20260422T040816
CREATED:20200213T190110Z
LAST-MODIFIED:20200303T211501Z
UID:2648-1582318800-1582326000@togroovepistoia.it
SUMMARY:Noi siamo il futuro: pronti a metterci in gioco
DESCRIPTION:       \n«Facciamoli sentire preziosi\, non onnipotenti\, facciamoli sentire capaci\, non i migliori\, facciamoli sentire  protagonisti della loro vita\, non i registi del mondo…”» \n“Adulti affascinanti”\nDott.ssa Silvia Poletti\, \npedagogista\, Master di II livello in Progettazione Pedagogica nel settore della Giustizia Civile e Penale\, Master in Counseling Strategico in Azione \n21 febbraio 2020 ore 21.00
URL:https://togroovepistoia.it/evento/autostima-sicurezza-nelle-proprie-capacita-creativita-nessuno-disabile-alla-felicita-6/
CATEGORIES:passato
ATTACH;FMTTYPE=image/jpeg:https://togroovepistoia.it/wp-content/uploads/2020/02/76246696_10218629170434221_1786054281661513728_o.jpg
ORGANIZER;CN="To Groove Pistoia":MAILTO:togroovepistoia@gmail.com
END:VEVENT
END:VCALENDAR