BEGIN:VCALENDAR
VERSION:2.0
PRODID:-//To Groove Pistoia - ECPv6.2.9//NONSGML v1.0//EN
CALSCALE:GREGORIAN
METHOD:PUBLISH
X-WR-CALNAME:To Groove Pistoia
X-ORIGINAL-URL:https://togroovepistoia.it
X-WR-CALDESC:Eventi per To Groove Pistoia
REFRESH-INTERVAL;VALUE=DURATION:PT1H
X-Robots-Tag:noindex
X-PUBLISHED-TTL:PT1H
BEGIN:VTIMEZONE
TZID:Europe/Rome
BEGIN:DAYLIGHT
TZOFFSETFROM:+0100
TZOFFSETTO:+0200
TZNAME:CEST
DTSTART:20190331T010000
END:DAYLIGHT
BEGIN:STANDARD
TZOFFSETFROM:+0200
TZOFFSETTO:+0100
TZNAME:CET
DTSTART:20191027T010000
END:STANDARD
BEGIN:DAYLIGHT
TZOFFSETFROM:+0100
TZOFFSETTO:+0200
TZNAME:CEST
DTSTART:20200329T010000
END:DAYLIGHT
BEGIN:STANDARD
TZOFFSETFROM:+0200
TZOFFSETTO:+0100
TZNAME:CET
DTSTART:20201025T010000
END:STANDARD
BEGIN:DAYLIGHT
TZOFFSETFROM:+0100
TZOFFSETTO:+0200
TZNAME:CEST
DTSTART:20210328T010000
END:DAYLIGHT
BEGIN:STANDARD
TZOFFSETFROM:+0200
TZOFFSETTO:+0100
TZNAME:CET
DTSTART:20211031T010000
END:STANDARD
END:VTIMEZONE
BEGIN:VEVENT
DTSTART;TZID=Europe/Rome:20210415T153000
DTEND;TZID=Europe/Rome:20211030T170000
DTSTAMP:20260422T030013
CREATED:20211013T102239Z
LAST-MODIFIED:20211122T132927Z
UID:2783-1618500600-1635613200@togroovepistoia.it
SUMMARY:Addolciamo questo autunno
DESCRIPTION:Partecipa all’iniziativa\, telefona al 3383894309
URL:https://togroovepistoia.it/evento/pisstoia-la-silenziosa/
CATEGORIES:passato
END:VEVENT
BEGIN:VEVENT
DTSTART;TZID=Europe/Rome:20210227T100000
DTEND;TZID=Europe/Rome:20210227T120000
DTSTAMP:20260422T030013
CREATED:20210216T103459Z
LAST-MODIFIED:20211122T132941Z
UID:2771-1614420000-1614427200@togroovepistoia.it
SUMMARY:"Tutto Sarà per un Bene" Giovani e Pandemia\, opportunità per crescere insieme
DESCRIPTION:Riunirsi insieme intorno a un tavolo virtuale\, sul canale youtube della Provincia di Pistoia\, per un confronto e un dibattito che stimoli la riflessione che mira al cambiamento della nostra società\,  alla realizzazione di un progetto per una Comunità capace di tutelare i propri giovani.
URL:https://togroovepistoia.it/evento/tutto-sara-per-un-bene-giovani-e-pandemia-opportunita-per-crescere-insieme/
LOCATION:Pistoia Porta San Marco\, Porta San Marco\, PISTOIA\, Pistoia\, 51100\, Italia
CATEGORIES:passato
END:VEVENT
BEGIN:VEVENT
DTSTART;TZID=Europe/Rome:20201210T213000
DTEND;TZID=Europe/Rome:20210202T190000
DTSTAMP:20260422T030013
CREATED:20201210T204742Z
LAST-MODIFIED:20211122T132951Z
UID:2755-1607635800-1612292400@togroovepistoia.it
SUMMARY:Aggiornamenti sui lavori nella sede di via dei Baroni...
DESCRIPTION:L’associazione ha trovato la sua casa!\n“Chiunque a un certo punto della vita mette su casa.  \nLa parte difficile è costruire una casa del cuore.  \nUn posto non soltanto per dormire\, ma anche per sognare.  \nUn posto dove crescere una famiglia con amore\, un posto non per trovare riparo dal freddo ma un angolino tutto nostro da cui ammirare il cambiamento delle stagioni; un posto non semplicemente dove far passare il tempo\, ma dove provare gioia per il resto della vita.” (Sergio Bambarén) \nE siccome “una finestra di opportunità non si aprirà mai da sola” (David Weinbaum) chiediamo a tutti di darci una mano a raccogliere i fondi per sistemare le finestre della nuova casa. \n \nUna piccola donazione è per noi una grande cosa! \nIl nostro grazie sarà reso visibile da queste belle illustrazioni realizzate in esclusiva per noi\, ricordati di farci avere il tuo indirizzo\, per ogni informazione chiama o scrivi: \n \nIban  Banca Alta Toscana: IT 08 Y 08922 13800 000000823153  \n… oppure direttamente con un click con paypal \nhttps://www.paypal.com/paypalme/ToGroovePistoia?locale.x=it_IT
URL:https://togroovepistoia.it/evento/aggiornamenti-sui-lavori-nella-sede-di-via-dei-baroni/
CATEGORIES:passato
ATTACH;FMTTYPE=image/jpeg:https://togroovepistoia.it/wp-content/uploads/2020/12/Prima-pagina-2-scaled-e1607622721386.jpg
ORGANIZER;CN="To Groove Pistoia":MAILTO:togroovepistoia@gmail.com
END:VEVENT
BEGIN:VEVENT
DTSTART;TZID=Europe/Rome:20201107T100000
DTEND;TZID=Europe/Rome:20201107T190000
DTSTAMP:20260422T030013
CREATED:20201230T174707Z
LAST-MODIFIED:20210316T114912Z
UID:2613-1604743200-1604775600@togroovepistoia.it
SUMMARY:"Le esperienze possono cambiare il DNA"
DESCRIPTION:  \nLe esperienze possono cambiare il DNA\n“Tutto si trasforma\, nulla si distrugge” \n( Antoine-laurent De Lavoiser) \nOre 10.00 – 12.30 \n\nProiezione del documentario “Epigenetica: come il nostro corpo memorizza il mondo” realizzato dalla Civica Scuola di Cinema Luchino Visconti di Milano.\nAl termine verranno introdotti gli ospiti che presenteranno i loro progetti:\n\nAlfiere della Repubblica 2019 Giuseppe Bungaro\, 08/04/2000\, residente a Fragagnano (Taranto) – Giovane eccellenza nella ricerca scientifica\, ha progettato uno stent pericardico capace di ridurre i rischi post-operatori dei pazienti sottoposti ad angioplastica. Dopo che le nuove protesi sono state valutate dagli esperti\, si è aggiudicato la medaglia d’oro alle Olimpiadi internazionali dei Progetto scientifici. E’ impegnato in attività di divulgazione per prevenire i rischi cardiovascolari e continua a prepararsi agli studi di cardiologia e cardiochirurgia. E’ vincitore dell’European union contest for young scientists. \nOre 17.30 \n“Epigenetica\, l’intelligenza delle cellule e la vita felice” \nDott.ssa Baghernajad Salehi Leila\, medico specializzato in genetica\, titolare dell’insegnamento della Genetica Medica presso Scuola IAD Università di Tor Vergata di Roma.
URL:https://togroovepistoia.it/evento/le-esperienze-possono-cambiare-il-dna/
CATEGORIES:passato
ATTACH;FMTTYPE=image/jpeg:https://togroovepistoia.it/wp-content/uploads/2019/12/logo-il-futuro-inizia-oggi.jpg
ORGANIZER;CN="To Groove Pistoia":MAILTO:togroovepistoia@gmail.com
END:VEVENT
BEGIN:VEVENT
DTSTART;TZID=Europe/Rome:20201007T170000
DTEND;TZID=Europe/Rome:20210630T190000
DTSTAMP:20260422T030013
CREATED:20200930T170319Z
LAST-MODIFIED:20201210T204835Z
UID:2723-1602090000-1625079600@togroovepistoia.it
SUMMARY:Coro delle Mani Bianche: si riparte...Non si canta perché si è felici; si è felici perché si canta!
DESCRIPTION:Prendiamo in prestito le parole di altri per raccontare cosa faremo! \nIl segreto del canto risiede tra la vibrazione della voce di chi canta e il battito del cuore di chi ascolta.\n(Khalil Gibran) \nSe non sai che fare delle tue mani\, trasformale in carezze.\n(Jacques Salomé) \nPiù che a guardarle le mani s’impara ad ascoltarle. E a tradurle. Nel modo che hanno di muoversi mentre si parla\, si tace\, non si fa nulla.\n(saraturchina\, Twitter) \n…e allora: \nIo canto\nle mani in tasca canto\nla voce in festa canto\nla banda in testa canto\ncorro nel vento e canto\nla vita intera canto\nla primavera canto\nla mia preghiera canto\nper chi mi ascolterà\nvoglio cantare sempre cantare. \nCantare è un modo per ricordarsi di respirare…In verità cantare è altro respiro. È un soffio in nulla. Un calmo alito. Un vento…la bellezza fiorisce solo nel canto…Gli uomini cantano quando le parole non bastano\, quando non riescono a dirle\, forse perché da sole sarebbero persino ridicole…Liberarsi di tutti i vincoli umani\, sociali\, morali\, finché possiamo danzare e cantare come i bambini…Colui che canta passa dalla gioia alla melodia\, colui che ascolta\, dalla melodia alla gioia…Oggi\, quel che non vale più la pena di dire\, lo si canta…L’amore\, ho scoperto\, è come cantare. Tutti possono farlo abbastanza per soddisfare se stessi\, sebbene possa non impressionare granché i propri vicini…
URL:https://togroovepistoia.it/evento/coro-delle-mani-bianche-si-riparte-perche-non-si-canta-perche-si-e-felici-si-e-felici-perche-si-canta/
LOCATION:Villa Rospigliosi via di Santomato n°75 Candeglia Pistoia\, Via di Santomato n° 75 Candeglia\, Pistoia\, PISTOIA\, 51100\, Italia
CATEGORIES:passato
ATTACH;FMTTYPE=image/jpeg:https://togroovepistoia.it/wp-content/uploads/2020/09/PIXNIO-1821628-1200x621-1.jpg
ORGANIZER;CN="To Groove Pistoia":MAILTO:togroovepistoia@gmail.com
END:VEVENT
BEGIN:VEVENT
DTSTART;TZID=Europe/Rome:20200626T000000
DTEND;TZID=Europe/Rome:20200715T235900
DTSTAMP:20260422T030013
CREATED:20200628T140934Z
LAST-MODIFIED:20211122T133003Z
UID:2715-1593129600-1594857540@togroovepistoia.it
SUMMARY:Via Baroni n°10  Lotteria di beneficenza per Nuova sede di To Groove Pistoia
DESCRIPTION:Eccoli!\nQuesti sono i numeri Vincenti estratti!!!! \nI premi e i buoni che non sono stati ritirati direttamente la sera dell’estrazione possono essere ritirati\nPREVIO APPUNTAMENTO TELEFONICO (3383894309) telefonico o email a togroovepistoiagmail.com\npresso la sede legale di To Groove Pistoia\nMA ATTENZIONE\nSOLO ENTRO E NON OLTRE il 15 luglio 2020 \n\nDecorso il termine (15 luglio) i premi non ritirati saranno trattenuti dall’Associazione e destinati in beneficenza secondo proprio e insindacabile scelta.
URL:https://togroovepistoia.it/evento/via-baroni-n10-lotteria-di-beneficenza-per-nuova-sede-di-to-groove-pistoia-2/
LOCATION:Biblioteca San Giorgio Pistoia\, Via Pertini\, Pistoia\, Pistoia\, 51100\, Italia
CATEGORIES:passato
ORGANIZER;CN="To Groove Pistoia":MAILTO:togroovepistoia@gmail.com
END:VEVENT
BEGIN:VEVENT
DTSTART;VALUE=DATE:20200626
DTEND;VALUE=DATE:20200627
DTSTAMP:20260422T030013
CREATED:20200616T104357Z
LAST-MODIFIED:20211122T133020Z
UID:2702-1593129600-1593215999@togroovepistoia.it
SUMMARY:Via Baroni n°10  Lotteria di beneficenza per Nuova sede di To Groove Pistoia
DESCRIPTION:Non perdere l’occasione di entrare nel nostro mondo\, passa la sera del 26 giugno insieme a noi\, per scoprire cosa abbiamo fatto e stiamo facendo\, \npartecipa alla lotteria\, aiutaci a ristrutturare la sede di Via Baroni\, sarà un modo prezioso per dare spazio alle nostre idee!
URL:https://togroovepistoia.it/evento/via-baroni-n10-lotteria-di-beneficenza-per-nuova-sede-di-to-groove-pistoia/
LOCATION:Biblioteca San Giorgio Pistoia\, Via Pertini\, Pistoia\, Pistoia\, 51100\, Italia
CATEGORIES:passato
ORGANIZER;CN="To Groove Pistoia":MAILTO:togroovepistoia@gmail.com
END:VEVENT
BEGIN:VEVENT
DTSTART;VALUE=DATE:20200313
DTEND;VALUE=DATE:20200314
DTSTAMP:20260422T030013
CREATED:20220708T074757Z
LAST-MODIFIED:20220708T074944Z
UID:2907-1584057600-1584143999@togroovepistoia.it
SUMMARY:Stasera suona con noi Pierre Steeve Jino Touche\, in serata d'autore
DESCRIPTION:  \n \n8 luglio 2022 ore 20\,30 \n«Essere felici è una scelta\, ma nessuno può esserlo da solo. La vita felice è svegliarsi con una missione da compiere» \n(dott Mimmo Armiento) \nStiamo raccogliendo fondi per sostenere i nostri progetti e non gravare completamente sulle famiglie \nPuoi aiutarci e passare una bella serata musicale… \nPartecipa al concerto del 8 luglio 2022 ore 20.30 \nnell’azienda Toscana Fair \nOSPITE DI ECCEZIONE \nPierre Steeve Jino Touche \nal basso e contrabbasso \n canterà Stefano Panconesi e suoneranno i nostri amici musicisti \nUmberto Quattrone\, chitarra\, Giovanni Gargini\, batteria e percussioni \nin un repertorio di canzoni originali e di autori italiani \nPrima della musica staremo insieme per un aperitivo \nSarà una serata di bella musica\, solidarietà… e amicizia spettacolare! \nFai una donazione sostienici!\nGRAZIE  \nSiamo un’associazione Onlus\, se fai il bonifico puoi scaricarlo dalle tasse:\nIBAN   08Y0892213800000000823153
URL:https://togroovepistoia.it/evento/stasera-suona-con-noi-pierre-steeve-jino-touche-in-serata-dautore/
LOCATION:Toscana Fair via Bonellina\, n°26 Pistoia\, Via Bonellina n°46\, Pistoia\, 51100\, Italia
CATEGORIES:In Evidenza,passato
ATTACH;FMTTYPE=image/jpeg:https://togroovepistoia.it/wp-content/uploads/2022/07/Jino-Touche-8-luglio-2022-e1657265369467.jpg
ORGANIZER;CN="To Groove Pistoia":MAILTO:togroovepistoia@gmail.com
END:VEVENT
BEGIN:VEVENT
DTSTART;VALUE=DATE:20200313
DTEND;VALUE=DATE:20200314
DTSTAMP:20260422T030013
CREATED:20220426T183551Z
LAST-MODIFIED:20220426T183551Z
UID:2874-1584057600-1584143999@togroovepistoia.it
SUMMARY:Ristorante Toscana Fair per To Groove Pistoia Onlus organizza...
DESCRIPTION:«Essere felici è una scelta\, ma nessuno può esserlo da solo. La vita felice è svegliarsi con una missione da compiere» \n(dott Mimmo Armiento) \nStiamo raccogliendo fondi per sostenere i nostri progetti e non gravare completamente sulle famigli \nPuoi aiutarci e passare un bel pomeriggio musicale… \nPartecipa al concerto del 3 Aprile 2022 ore 17.30 \norganizzato da Toscana Fair per To Groove Pistoia Onlus Aps \n canterà il ns presidente e suoneranno i nostri amici musicisti \nUmberto Quattrone e Giovanni Gargini \ne dopo la musica staremo insieme per un aperitivo \nSarà un pomeriggio…spettacolare! \nFai una donazione sostienici!\nGRAZIE  \nSiamo un’associazione Onlus\, se fai il bonifico puoi scaricarlo dalle tasse:\nIBAN   08Y0892213800000000823153
URL:https://togroovepistoia.it/evento/ristorante-toscana-fair-per-to-groove-pistoia-onlus-organizza-2/
LOCATION:Toscana Fair via Bonellina\, n°26 Pistoia\, Via Bonellina n°46\, Pistoia\, 51100\, Italia
CATEGORIES:In Evidenza,passato
ATTACH;FMTTYPE=image/jpeg:https://togroovepistoia.it/wp-content/uploads/2022/04/WhatsApp-Image-2022-03-18-at-21.15.03.jpeg
ORGANIZER;CN="To Groove Pistoia":MAILTO:togroovepistoia@gmail.com
END:VEVENT
BEGIN:VEVENT
DTSTART;VALUE=DATE:20200313
DTEND;VALUE=DATE:20200314
DTSTAMP:20260422T030013
CREATED:20200213T213130Z
LAST-MODIFIED:20211122T133033Z
UID:2667-1584057600-1584143999@togroovepistoia.it
SUMMARY:Ristorante Toscana Fair per To Groove Pistoia Onlus organizza...
DESCRIPTION:     \n«Essere felici è una scelta\, ma nessuno può esserlo da solo. La vita felice è svegliarsi con una missione da compiere» \n(dott Mimmo Armiento) \nStiamo raccogliendo fondi per ristrutturare il locali che ci sono stati offerti come nuova sede per la nostra associazione.\nI lavori servono a renderli accessibili e per il riscaldamento.\nIn questo modo recuperiamo spazi al momento inutilizzati in un edificio storico della città\, il primo asilo di Pistoia\, e avremo un luogo adatto per fare moltissime altre attività! \nPer aiutarci… \nPartecipa alla cena del 13 marzo  \norganizzata da Toscana Fair per To Groove Pistoia Onlus \nchiuderemo la serata con il concerto in cui canterà il ns presidente e suoneranno i nostri musicisti \nSarà una serata…spettacolare! \nFai una donazione sostienici!\nGRAZIE  \nSiamo un’associazione Onlus\, se fai il bonifico puoi scaricarlo dalle tasse:\nIBAN   08Y0892213800000000823153
URL:https://togroovepistoia.it/evento/ristorante-toscana-fair-per-to-groove-pistoia-onlus-organizza/
CATEGORIES:passato
ATTACH;FMTTYPE=image/jpeg:https://togroovepistoia.it/wp-content/uploads/2020/02/L-Fronte.jpg
ORGANIZER;CN="To Groove Pistoia":MAILTO:togroovepistoia@gmail.com
END:VEVENT
BEGIN:VEVENT
DTSTART;VALUE=DATE:20200222
DTEND;VALUE=DATE:20200223
DTSTAMP:20260422T030013
CREATED:20200213T192150Z
LAST-MODIFIED:20200303T211426Z
UID:2653-1582329600-1582415999@togroovepistoia.it
SUMMARY:“Noi siamo il futuro:pronti a metterci in gioco”
DESCRIPTION:         \n  \n 22 febbraio 2020 0re 10.00 – 12.30 \nNoi siamo il futuro: pronti a metterci in gioco \n“Credo che ogni essere umano abbia a disposizione un numero limitato di battiti del cuore. Io non intendo sprecare nessuno dei miei”. \n(Neil Amstrong\, astronauta) \nOspiti: \n\nAlfiere della Repubblica 2019 Manuel Pala\, 15/01/2001\, residente a Genova\, appassionato di cinema\, ha girato il film “Cuori in guerra”\, i cui proventi sono destinati al Fondo malattie renali nel bambino Onlus\, che opera presso l’ospedale Gaslini di Genova. Il film è un musical\, che ha coinvolto circa duecento ragazzi\, rendendoli pienamente protagonisti del progetto\, dalle coreografie alla colonna sonora\, dai tecnici agli attori\, dai musicisti dell’orchestra fino ai membri dello staff. Durante l’incontro saranno proiettati il trailer e video del backstage\n\n  \nInsieme a Manuel anche: \n\nAlfiere della Repubblica 2019 Andrea Ciarrocchi\, 17/03/2004\, residente a Civita Castellana (Viterbo) – Primo partecipante al progetto “mini pioniere Cri 8-13”\, organizzato dalla Croce Rossa italiana per formare bambini e giovani alle attività socio-assistenziali. Si è distinto per le sue capacità e la sua coinvolgente partecipazione. Oggi è a pieno titolo un volontario della Croce Rossa e un esempio per i suoi coetanei. E’ stato capace di sensibilizzare un gruppo di ragazzi sulla prevenzione del bullismo e di comportamenti discriminatori.\nTommaso e Filippo Bolondi\, 10 e 12 anni\, Milano\, a cui è stata data dal Presidente Mattarella la Targa di Benemerenza 2019\, presenteranno l’applicazione anti-bullismo (Olly) che hanno ideato e che il papà Federico\, su loro richiesta e con le loro indicazioni\, ha programmato. Olly è un’applicazione gratuita e utilizzabile su Apple e Android. Ha lo scopo di aumentare l’autostima dei ragazzi tra i 10 e i 16 anni\, attraverso lo scambio di messaggi positivi in uno spazio protetto da insulti e offese. L’applicazione è una via di mezzo tra un social network e un gioco\, e ha due regole: le domande sono solo positive e le risposte anonime.
URL:https://togroovepistoia.it/evento/noi-siamo-il-futuropronti-a-metterci-in-gioco/
CATEGORIES:passato
ATTACH;FMTTYPE=image/jpeg:https://togroovepistoia.it/wp-content/uploads/2020/02/download-1.jpg
ORGANIZER;CN="To Groove Pistoia":MAILTO:togroovepistoia@gmail.com
END:VEVENT
BEGIN:VEVENT
DTSTART;TZID=Europe/Rome:20200221T210000
DTEND;TZID=Europe/Rome:20200221T230000
DTSTAMP:20260422T030013
CREATED:20200213T190110Z
LAST-MODIFIED:20200303T211501Z
UID:2648-1582318800-1582326000@togroovepistoia.it
SUMMARY:Noi siamo il futuro: pronti a metterci in gioco
DESCRIPTION:       \n«Facciamoli sentire preziosi\, non onnipotenti\, facciamoli sentire capaci\, non i migliori\, facciamoli sentire  protagonisti della loro vita\, non i registi del mondo…”» \n“Adulti affascinanti”\nDott.ssa Silvia Poletti\, \npedagogista\, Master di II livello in Progettazione Pedagogica nel settore della Giustizia Civile e Penale\, Master in Counseling Strategico in Azione \n21 febbraio 2020 ore 21.00
URL:https://togroovepistoia.it/evento/autostima-sicurezza-nelle-proprie-capacita-creativita-nessuno-disabile-alla-felicita-6/
CATEGORIES:passato
ATTACH;FMTTYPE=image/jpeg:https://togroovepistoia.it/wp-content/uploads/2020/02/76246696_10218629170434221_1786054281661513728_o.jpg
ORGANIZER;CN="To Groove Pistoia":MAILTO:togroovepistoia@gmail.com
END:VEVENT
BEGIN:VEVENT
DTSTART;TZID=Europe/Rome:20200125T100000
DTEND;TZID=Europe/Rome:20200125T170000
DTSTAMP:20260422T030013
CREATED:20200111T170803Z
LAST-MODIFIED:20200213T183651Z
UID:2635-1579946400-1579971600@togroovepistoia.it
SUMMARY:Autostima\, sicurezza nelle proprie capacità\, creatività: nessuno disabile alla felicità
DESCRIPTION:«Essere felici è una scelta\, ma nessuno può esserlo da solo. La vita felice è svegliarsi con una missione da compiere» \n“Un Sorriso Prima di Tutto. Da una buona comunicazione a una comunicazione buona”\nDott. Mimmo Armiento\, \nDott. Mimmo Armiento\, noto psicologo e psicoterapeuta\, di Manfredonia (FG)\, dove esercita la libera professione\, è sostenitore della Psicologia Positiva. Riconosciuto e stimato per le capacità professionalità\, spesso viene invitato come relatore e conferenziere. Collabora anche con la Fondazione Centri P. Pio in qualità di psicologo dipendente. Ha svolto negli anni attività di formatore in vari contesti professionali tra cui scuole\, associazioni e seminari teologici. Con sua moglie ha fondato e guida l’associazione Ingannevole come l’amore\, con la quale realizza varie attività di formazione alla crescita umana e in particolare all’amore nuziale\, secondo una antropologia personalista di ispirazione cristiana. Ha scritto numerosi libri editi Paoline\, Porziuncola e San Paolo oltre ad essere gradito ospite di emittenti televisive. \n25 gennaio 2020 ore 17.30
URL:https://togroovepistoia.it/evento/autostima-sicurezza-nelle-proprie-capacita-creativita-nessuno-disabile-alla-felicita-5/
CATEGORIES:passato
ATTACH;FMTTYPE=image/jpeg:https://togroovepistoia.it/wp-content/uploads/2020/01/mimmo-armiento-psicoterapeuta.jpg
ORGANIZER;CN="To Groove Pistoia":MAILTO:togroovepistoia@gmail.com
END:VEVENT
BEGIN:VEVENT
DTSTART;TZID=Europe/Rome:20200125T100000
DTEND;TZID=Europe/Rome:20200125T170000
DTSTAMP:20260422T030013
CREATED:20200109T173053Z
LAST-MODIFIED:20200213T183742Z
UID:2609-1579946400-1579971600@togroovepistoia.it
SUMMARY:Autostima\, sicurezza nelle proprie capacità\, creatività: nessuno disabile alla felicità
DESCRIPTION:Autostima\, sicurezza nelle proprie capacità\, creatività: nessuno disabile alla felicità\n“Coloro che amano sono inventivi\, non stanno mai fermi\, s’impegnano; \ncoloro che non amano perdono tempo senza concludere niente” \n(Don Oreste Benzi) \nOre 10.00 – 12.30 \nProiezione del Cortometraggio su l’amicizia che supera le barriere della paura realizzato da Alfiere della Repubblica 2019 Marcos Alexandre Cappato De Araujo\, 14/01/2001\, residente a Milano – Scrive racconti\, testi di canzoni e ha realizzato un cortometraggio sulla disabilità\, o meglio\, su come l’amicizia possa superare le barriere della paura. Affetto da tetraparesi spastica\, è molto attivo nella difesa dei diritti dei disabili\, a partire dall’impegno all’interno della sua scuola. Del cortometraggio (finanziato da una borsa di studio di Dynamo Camp) è stato ideatore e regista e si è avvalso del contributo di attori noti anche al grande pubblico. \nAl termine verranno introdotti gli ospiti che presenteranno i loro progetti: \nAlfiere della Repubblica Leonardo Cesaretti\, 30/05/2002\, residente ad Albano Laziale (Roma) – E’ stato vittima di bullismo\, ma ha reagito donando il proprio impegno a favore dei più deboli. Fin da piccolo ha mostrato empatia verso i compagni in difficoltà e ora è impegnato\, da volontario\, nelle sezioni di sport integrato e nelle attività di supporto all’hockey su sedia a rotelle. Il suo sostegno attivo ai ragazzi con disabilità è un esempio di come l’inclusione consenta di superare pregiudizi e barriere. \nAlfiere della Repubblica 2019 Jasmine Manbal\, 06/08/2002\, residente a Prato – Campionessa di judo\, svolge attività di volontariato e fa parte del Consiglio dei ragazzi e delle ragazze del Meyer\, l’ospedale pediatrico fiorentino nel quale da anni è in cura per una malattia cronica. La malattia le ha portato a lungo malessere e l’ha debilitata. Lei però ha reagito trovando nello sport\, praticato a livello agonistico\, un’occasione di crescita individuale e di socialità. Ha partecipato a una sessione estiva di Dynamo Camp e da quella esperienza ha tratto un insegnamento: impegnarsi per non far sentire nessuno escluso può essere una leva per superare anche le proprie condizioni di svantaggio e di difficoltà. \n25 gennaio 2020 ore 17.30
URL:https://togroovepistoia.it/evento/autostima-sicurezza-nelle-proprie-capacita-creativita-nessuno-disabile-alla-felicita/
CATEGORIES:passato
ATTACH;FMTTYPE=image/jpeg:https://togroovepistoia.it/wp-content/uploads/2019/12/logo-il-futuro-inizia-oggi.jpg
ORGANIZER;CN="To Groove Pistoia":MAILTO:togroovepistoia@gmail.com
END:VEVENT
BEGIN:VEVENT
DTSTART;VALUE=DATE:20200125
DTEND;VALUE=DATE:20200126
DTSTAMP:20260422T030013
CREATED:20200111T154758Z
LAST-MODIFIED:20200213T183846Z
UID:2625-1579910400-1579996799@togroovepistoia.it
SUMMARY:Autostima\, sicurezza nelle proprie capacità\, creatività: nessuno disabile alla felicità
DESCRIPTION:  \n“Coloro che amano sono inventivi\, non stanno mai fermi\, s’impegnano; \ncoloro che non amano perdono tempo senza concludere niente” \n(Don Oreste Benzi) \nOre 10.00 – 12.30 \nAlfiere della Repubblica 2019 Jasmine Manbal\, 06/08/2002\, residente a Prato – Campionessa di judo\, svolge attività di volontariato e fa parte del Consiglio dei ragazzi e delle ragazze del Meyer\, l’ospedale pediatrico fiorentino nel quale da anni è in cura per una malattia cronica. La malattia le ha portato a lungo malessere e l’ha debilitata. Lei però ha reagito trovando nello sport\, praticato a livello agonistico\, un’occasione di crescita individuale e di socialità. Ha partecipato a una sessione estiva di Dynamo Camp e da quella esperienza ha tratto un insegnamento: impegnarsi per non far sentire nessuno escluso può essere una leva per superare anche le proprie condizioni di svantaggio e di difficoltà. \n 
URL:https://togroovepistoia.it/evento/autostima-sicurezza-nelle-proprie-capacita-creativita-nessuno-disabile-alla-felicita-4/
CATEGORIES:passato
ATTACH;FMTTYPE=image/jpeg:https://togroovepistoia.it/wp-content/uploads/2020/01/im.jpeg
ORGANIZER;CN="To Groove Pistoia":MAILTO:togroovepistoia@gmail.com
END:VEVENT
BEGIN:VEVENT
DTSTART;VALUE=DATE:20200125
DTEND;VALUE=DATE:20200126
DTSTAMP:20260422T030013
CREATED:20200111T154514Z
LAST-MODIFIED:20200213T183921Z
UID:2620-1579910400-1579996799@togroovepistoia.it
SUMMARY:Autostima\, sicurezza nelle proprie capacità\, creatività: nessuno disabile alla felicità
DESCRIPTION:  \n“Coloro che amano sono inventivi\, non stanno mai fermi\, s’impegnano; \ncoloro che non amano perdono tempo senza concludere niente” \n(Don Oreste Benzi) \nOre 10.00 – 12.30 \nAlfiere della Repubblica Leonardo Cesaretti\, 30/05/2002\, residente ad Albano Laziale (Roma) – E’ stato vittima di bullismo\, ma ha reagito donando il proprio impegno a favore dei più deboli. Fin da piccolo ha mostrato empatia verso i compagni in difficoltà e ora è impegnato\, da volontario\, nelle sezioni di sport integrato e nelle attività di supporto all’hockey su sedia a rotelle. Il suo sostegno attivo ai ragazzi con disabilità è un esempio di come l’inclusione consenta di superare pregiudizi e barriere. \n 
URL:https://togroovepistoia.it/evento/autostima-sicurezza-nelle-proprie-capacita-creativita-nessuno-disabile-alla-felicita-3/
CATEGORIES:passato
ATTACH;FMTTYPE=image/jpeg:https://togroovepistoia.it/wp-content/uploads/2020/01/1C719F6D-4CD2-43AC-85EB-4887157EB15C.jpeg
ORGANIZER;CN="To Groove Pistoia":MAILTO:togroovepistoia@gmail.com
END:VEVENT
BEGIN:VEVENT
DTSTART;VALUE=DATE:20200125
DTEND;VALUE=DATE:20200126
DTSTAMP:20260422T030013
CREATED:20200111T153524Z
LAST-MODIFIED:20200213T183955Z
UID:2616-1579910400-1579996799@togroovepistoia.it
SUMMARY:Autostima\, sicurezza nelle proprie capacità\, creatività: nessuno disabile alla felicità
DESCRIPTION:“Coloro che amano sono inventivi\, non stanno mai fermi\, s’impegnano; \ncoloro che non amano perdono tempo senza concludere niente” \n(Don Oreste Benzi) \nOre 10.00 – 12.30 \nProiezione del Cortometraggio su l’amicizia che supera le barriere della paura realizzato da Alfiere della Repubblica 2019 Marcos Alexandre Cappato De Araujo\, 14/01/2001\, residente a Milano – Scrive racconti\, testi di canzoni e ha realizzato un cortometraggio sulla disabilità\, o meglio\, su come l’amicizia possa superare le barriere della paura. Affetto da tetraparesi spastica\, è molto attivo nella difesa dei diritti dei disabili\, a partire dall’impegno all’interno della sua scuola. Del cortometraggio (finanziato da una borsa di studio di Dynamo Camp) è stato ideatore e regista e si è avvalso del contributo di attori noti anche al grande pubblico. \n 
URL:https://togroovepistoia.it/evento/autostima-sicurezza-nelle-proprie-capacita-creativita-nessuno-disabile-alla-felicita-2/
CATEGORIES:passato
ATTACH;FMTTYPE=image/jpeg:https://togroovepistoia.it/wp-content/uploads/2020/01/premiazione-1.jpg
ORGANIZER;CN="To Groove Pistoia":MAILTO:togroovepistoia@gmail.com
END:VEVENT
BEGIN:VEVENT
DTSTART;TZID=Europe/Rome:20191222T173000
DTEND;TZID=Europe/Rome:20191222T203000
DTSTAMP:20260422T030013
CREATED:20191210T130628Z
LAST-MODIFIED:20200111T171245Z
UID:2506-1577035800-1577046600@togroovepistoia.it
SUMMARY:"Ama e Cambia il mondo" - Concerto di Natale
DESCRIPTION:Coro Mani Bianche di Pistoia \n22 dicembre 2019 \nOre 17.30 \nChiesa di San Paolo \nAugura buone feste alla città realizzando il Concerto di Natale \n“Ama e Cambia il mondo” \nOgni canto sarà eseguito come di consueto con musica dal vivo\, con le voci e le mani segnanti. \nUn grazie di cuore per l’entusiasmo e la dedizione del M° Lucia Amadori\, direttore delle voci\, prof.ssa Serena Poli\, direttore delle mani\, M° Silvia Morosi al pianoforte e il M° Umberto Quattrone alla chitarra\, che guiderà l’intervento di neofiti percussionisti. \nMa soprattutto un GRAZIE speciale a ciascun partecipante del Coro protagonisti assoluti dell’iniziativa\, per la capacità di trasmettere divertendosi emozioni profonde positive e tanta gioia. \nIl concerto vedrà preziose e straordinarie partecipazioni\, quindi il nostro più festoso Grazie va anche al \nCoro Internazionale di Pistoia\, diretto dal dott. Augustine Iroatulam \ne \nagli allievi del Laboratorio “In-segnando il canto” realizzato dalla nostra associazione\, durante le attività dell’Oratorio di San Domenico Savio \nL’ingresso è gratuito\, ma per chi lo desidera sarà possibile fare una donazione destinata alla realizzazione del bagno per disabili nella nuova sede\, perciò… \nGRAZIE anche a voi che verrete a sentirci e che deciderete di mettere un mattoncino per la nostra ristrutturazione!
URL:https://togroovepistoia.it/evento/ama-e-cambia-il-mondo-concerto-di-natale/
LOCATION:Chiesa di San Paolo – Pistoia\, Via della Rosa 39\, Pistoia\, 51100\, Italia
CATEGORIES:passato
ATTACH;FMTTYPE=image/png:https://togroovepistoia.it/wp-content/uploads/2019/10/mani-bianche-1.png
ORGANIZER;CN="To Groove Pistoia":MAILTO:togroovepistoia@gmail.com
END:VEVENT
END:VCALENDAR